BEGIN:VCALENDAR
PRODID:-//http://statistik.d-u-v.org//PHP ultracalendar//EN
VERSION:2.0
METHOD:PUBLISH
BEGIN:VEVENT
DTSTAMP:20260420T044127
CREATED:20250708T215002
UID:1776660087.0.04907700-120496@statistik.d-u-v.org
SUMMARY:K6 Czech Ultramarathon Festival - 50km
DESCRIPTION: K6 Czech Ultramarathon Festival - 50km\n
  Zdeněk Beneš\n
  k6[at]barokomaraton.cz
DTSTART:20250503T100000
DTEND:20250503T180000
LOCATION:Konstantinovy Lazne\, CZE
URL:http://k6ultra.cz
CATEGORIES:Ultramarathon
CONTACT:Zdeněk Beneš
CLASS:PUBLIC
PRIORITY:5
TRANSP:OPAQUE
END:VEVENT
END:VCALENDAR
