BEGIN:VCALENDAR
PRODID:-//http://statistik.d-u-v.org//PHP ultracalendar//EN
VERSION:2.0
METHOD:PUBLISH
BEGIN:VEVENT
DTSTAMP:20260419T121644
CREATED:20250709T111923
UID:1776601004.0.27575900-120470@statistik.d-u-v.org
SUMMARY:HochwaldUltraTrail
DESCRIPTION: HochwaldUltraTrail\n
  Stefan Petry\n
  info[at]hochwaldtrailer.de
DTSTART:20260516T080000
DTEND:20260516T200000
LOCATION:Osburg\, GER
URL:https://www.hochwaldtrailer.de/
CATEGORIES:Ultramarathon
CONTACT:Stefan Petry
CLASS:PUBLIC
PRIORITY:5
TRANSP:OPAQUE
END:VEVENT
END:VCALENDAR
