BEGIN:VCALENDAR
PRODID:-//http://statistik.d-u-v.org//PHP ultracalendar//EN
VERSION:2.0
METHOD:PUBLISH
BEGIN:VEVENT
DTSTAMP:20260425T235543
CREATED:20250712T064204
UID:1777161343.0.94282000-120403@statistik.d-u-v.org
SUMMARY:Craze Ultra 101 km
DESCRIPTION: Craze Ultra 101 km\n
  Ben Swee\n
  info[at]runningguild.com
DTSTART:20240928T070000
DTEND:20240929T070000
LOCATION:Singapore\, SGP
URL:https://www.runguild.com/p/craze-ultra.html
CATEGORIES:Ultramarathon
CONTACT:Ben Swee
CLASS:PUBLIC
PRIORITY:5
TRANSP:OPAQUE
END:VEVENT
END:VCALENDAR
