BEGIN:VCALENDAR
PRODID:-//http://statistik.d-u-v.org//PHP ultracalendar//EN
VERSION:2.0
METHOD:PUBLISH
BEGIN:VEVENT
DTSTAMP:20260424T172615
CREATED:20250711T100745
UID:1777051575.0.65577000-120391@statistik.d-u-v.org
SUMMARY:Ultra Da Chapada
DESCRIPTION: Ultra Da Chapada\n
  \n
  atendimento[at]mksesportes.com.br
DTSTART:20221009T000000
DTEND:00000000T235900
LOCATION:Chapada Dos Veadeiros\, BRA
URL:https://www.mksesportes.com.br/ultradachapada
CATEGORIES:Ultramarathon
CONTACT:
CLASS:PUBLIC
PRIORITY:5
TRANSP:OPAQUE
END:VEVENT
END:VCALENDAR
