BEGIN:VCALENDAR
PRODID:-//http://statistik.d-u-v.org//PHP ultracalendar//EN
VERSION:2.0
METHOD:PUBLISH
BEGIN:VEVENT
DTSTAMP:20260419T220812
CREATED:20250708T162923
UID:1776636492.0.89128000-120341@statistik.d-u-v.org
SUMMARY:Midnight Madness
DESCRIPTION: Midnight Madness\n
  \n
  info@activateoklahoma.org
DTSTART:20250705T235900
DTEND:20250706T235900
LOCATION:Tulsa, OK\, USA
URL:https://midnightmadness.run/
CATEGORIES:Ultramarathon
CONTACT:
CLASS:PUBLIC
PRIORITY:5
TRANSP:OPAQUE
END:VEVENT
END:VCALENDAR
