BEGIN:VCALENDAR
PRODID:-//http://statistik.d-u-v.org//PHP ultracalendar//EN
VERSION:2.0
METHOD:PUBLISH
BEGIN:VEVENT
DTSTAMP:20260424T200030
CREATED:20250707T212056
UID:1777060830.0.68997700-120320@statistik.d-u-v.org
SUMMARY:Sydney Ultra Marathon SUM50
DESCRIPTION: Sydney Ultra Marathon SUM50\n
  \n
  info[at]sydneyultramarathons.au
DTSTART:20250726T073000
DTEND:00000000T235900
LOCATION:St. Ives, NSW\, AUS
URL:https://sydneyultramarathons.au/sum-50
CATEGORIES:Ultramarathon
CONTACT:
CLASS:PUBLIC
PRIORITY:5
TRANSP:OPAQUE
END:VEVENT
END:VCALENDAR
