BEGIN:VCALENDAR
PRODID:-//http://statistik.d-u-v.org//PHP ultracalendar//EN
VERSION:2.0
METHOD:PUBLISH
BEGIN:VEVENT
DTSTAMP:20260419T121650
CREATED:20250703T222359
UID:1776601010.0.17860500-120248@statistik.d-u-v.org
SUMMARY:Endless Shore Ultra Trail
DESCRIPTION: Endless Shore Ultra Trail\n
  Randi Aalgaard\n
  endless.shore.ultra[at]gmail.com
DTSTART:20260523T090000
DTEND:20260524T235900
LOCATION:Nesodden\, NOR
URL:https://www.endless-shore.no/
CATEGORIES:Ultramarathon
CONTACT:Randi Aalgaard
CLASS:PUBLIC
PRIORITY:5
TRANSP:OPAQUE
END:VEVENT
END:VCALENDAR
