BEGIN:VCALENDAR
PRODID:-//http://statistik.d-u-v.org//PHP ultracalendar//EN
VERSION:2.0
METHOD:PUBLISH
BEGIN:VEVENT
DTSTAMP:20260423T033704
CREATED:20250701T155447
UID:1776915424.0.76298900-120194@statistik.d-u-v.org
SUMMARY:Universiti Malaya 50km Ultra Marathon
DESCRIPTION: Universiti Malaya 50km Ultra Marathon\n
  Seow Kong Ng\n
  um24[at]endurancenature.com.my
DTSTART:20241123T200000
DTEND:20241124T040000
LOCATION:Kuala Lumpur\, MAS
URL:http://endurancenature.com.my/
CATEGORIES:Ultramarathon
CONTACT:Seow Kong Ng
CLASS:PUBLIC
PRIORITY:5
TRANSP:OPAQUE
END:VEVENT
END:VCALENDAR
