BEGIN:VCALENDAR
PRODID:-//http://statistik.d-u-v.org//PHP ultracalendar//EN
VERSION:2.0
METHOD:PUBLISH
BEGIN:VEVENT
DTSTAMP:20260419T164858
CREATED:20250630T070935
UID:1776617338.0.98442900-120170@statistik.d-u-v.org
SUMMARY:On the Rocks Trail Runs
DESCRIPTION: On the Rocks Trail Runs\n
  \n
  
DTSTART:20250628T070000
DTEND:00000000T235900
LOCATION:York, PA\, USA
URL:https://ultrasignup.com/register.aspx?did=125919
CATEGORIES:Ultramarathon
CONTACT:
CLASS:PUBLIC
PRIORITY:5
TRANSP:OPAQUE
END:VEVENT
END:VCALENDAR
