BEGIN:VCALENDAR
PRODID:-//http://statistik.d-u-v.org//PHP ultracalendar//EN
VERSION:2.0
METHOD:PUBLISH
BEGIN:VEVENT
DTSTAMP:20260419T192156
CREATED:20111007T165718
UID:1776626516.0.63666100-12016@statistik.d-u-v.org
SUMMARY:The Ring 71-mile Run
DESCRIPTION: The Ring 71-mile Run\n
  \n
  mjcbur[at]yahoo.com; quatro.hubbard[at]gmail.com
DTSTART:20120901T000000
DTEND:20120902T235900
LOCATION:Massanutten Mountains, VA\, USA
URL:http://www.vhtrc.org/news/theRing
CATEGORIES:Ultramarathon
CONTACT:
CLASS:PUBLIC
PRIORITY:5
TRANSP:OPAQUE
END:VEVENT
END:VCALENDAR
