BEGIN:VCALENDAR
PRODID:-//http://statistik.d-u-v.org//PHP ultracalendar//EN
VERSION:2.0
METHOD:PUBLISH
BEGIN:VEVENT
DTSTAMP:20260422T215311
CREATED:20250626T171840
UID:1776894791.0.93502800-120118@statistik.d-u-v.org
SUMMARY:Red, White and Brew 12 Hour Last Person Standing
DESCRIPTION: Red, White and Brew 12 Hour Last Person Standing\n
  \n
  
DTSTART:20250620T070000
DTEND:00000000T235900
LOCATION:Windsor, CO\, USA
URL:https://runsignup.com/Race/CO/Windsor/4thofJulyOnYourOwn
CATEGORIES:Ultramarathon
CONTACT:
CLASS:PUBLIC
PRIORITY:5
TRANSP:OPAQUE
END:VEVENT
END:VCALENDAR
