BEGIN:VCALENDAR
PRODID:-//http://statistik.d-u-v.org//PHP ultracalendar//EN
VERSION:2.0
METHOD:PUBLISH
BEGIN:VEVENT
DTSTAMP:20260425T164025
CREATED:20250626T001524
UID:1777135225.0.83081800-120095@statistik.d-u-v.org
SUMMARY:Prambachkirchner 6-Stunden-Benefizlauf
DESCRIPTION: Prambachkirchner 6-Stunden-Benefizlauf\n
  Markus Autengruber\n
  markus.autengruber[at]spar.at
DTSTART:20250621T073000
DTEND:20250621T133000
LOCATION:Prambachkirchen\, AUT
URL:http://www.12hprambachkirchen.com
CATEGORIES:Ultramarathon
CONTACT:Markus Autengruber
CLASS:PUBLIC
PRIORITY:5
TRANSP:OPAQUE
END:VEVENT
END:VCALENDAR
