BEGIN:VCALENDAR
PRODID:-//http://statistik.d-u-v.org//PHP ultracalendar//EN
VERSION:2.0
METHOD:PUBLISH
BEGIN:VEVENT
DTSTAMP:20260423T035952
CREATED:20250624T004517
UID:1776916792.0.21283500-120054@statistik.d-u-v.org
SUMMARY:Reckless Red Eye Endurance Run
DESCRIPTION: Reckless Red Eye Endurance Run\n
  \n
  info@beastcoastpro.com
DTSTART:20250622T000000
DTEND:00000000T235900
LOCATION:Columbus, NJ\, USA
URL:https://runsignup.com/Race/NJ/Columbus/RecklessRedEyeEnduranceRun
CATEGORIES:Ultramarathon
CONTACT:
CLASS:PUBLIC
PRIORITY:5
TRANSP:OPAQUE
END:VEVENT
END:VCALENDAR
