BEGIN:VCALENDAR
PRODID:-//http://statistik.d-u-v.org//PHP ultracalendar//EN
VERSION:2.0
METHOD:PUBLISH
BEGIN:VEVENT
DTSTAMP:20260419T220815
CREATED:20250624T044710
UID:1776636495.0.80567300-120052@statistik.d-u-v.org
SUMMARY:Ultra Tihiorace 75km
DESCRIPTION: Ultra Tihiorace 75km\n
  \n
  info[at]tihiorace.gr
DTSTART:20250528T180000
DTEND:20250531T220000
LOCATION:Delphi\, GRE
URL:https://tihiorace.gr/agones/tihiorace-ultra-edition/ultratihiorace
CATEGORIES:Ultramarathon
CONTACT:
CLASS:PUBLIC
PRIORITY:5
TRANSP:OPAQUE
END:VEVENT
END:VCALENDAR
