BEGIN:VCALENDAR
PRODID:-//http://statistik.d-u-v.org//PHP ultracalendar//EN
VERSION:2.0
METHOD:PUBLISH
BEGIN:VEVENT
DTSTAMP:20260420T070831
CREATED:20250623T163920
UID:1776668911.0.65267800-120049@statistik.d-u-v.org
SUMMARY:Last Human Standing - RI
DESCRIPTION: Last Human Standing - RI\n
  Liz\n
  borderpatrolchallenge@gmail.com
DTSTART:20250621T070000
DTEND:00000000T235900
LOCATION:West Greenwich, RI\, USA
URL:https://ultrasignup.com/register.aspx?did=125274
CATEGORIES:Ultramarathon
CONTACT:Liz
CLASS:PUBLIC
PRIORITY:5
TRANSP:OPAQUE
END:VEVENT
END:VCALENDAR
