BEGIN:VCALENDAR
PRODID:-//http://statistik.d-u-v.org//PHP ultracalendar//EN
VERSION:2.0
METHOD:PUBLISH
BEGIN:VEVENT
DTSTAMP:20260423T053946
CREATED:20111006T162515
UID:1776922786.0.03302900-11998@statistik.d-u-v.org
SUMMARY:PRO:SPORT Ultra 50/100 km
DESCRIPTION: PRO:SPORT Ultra 50/100 km\n
  Race Manager Carin Goldblatt\n
  
DTSTART:20120223T170000
DTEND:20120224T235900
LOCATION:Eshtaol\, ISR
URL:http://israelraces.ultra.org.il/the-prosport-ultra/
CATEGORIES:Ultramarathon
CONTACT:Race Manager Carin Goldblatt
CLASS:PUBLIC
PRIORITY:5
TRANSP:OPAQUE
END:VEVENT
END:VCALENDAR
