BEGIN:VCALENDAR
PRODID:-//http://statistik.d-u-v.org//PHP ultracalendar//EN
VERSION:2.0
METHOD:PUBLISH
BEGIN:VEVENT
DTSTAMP:20260419T192559
CREATED:20250619T023721
UID:1776626759.0.46754300-119956@statistik.d-u-v.org
SUMMARY:Ultra-Trail Malopolska - UTM105
DESCRIPTION: Ultra-Trail Malopolska - UTM105\n
  Pawel Derlatka\n
  fundacja[at]ultratrailmalopolska.pl; fundacja4alternatywy[at]gmail.com; fundacja[at]utm.run
DTSTART:20250524T070000
DTEND:20250525T100000
LOCATION:Mszana Dolna\, POL
URL:https://ultratrailmalopolska.pl/pl/utm/
CATEGORIES:Ultramarathon
CONTACT:Pawel Derlatka
CLASS:PUBLIC
PRIORITY:5
TRANSP:OPAQUE
END:VEVENT
END:VCALENDAR
