BEGIN:VCALENDAR
PRODID:-//http://statistik.d-u-v.org//PHP ultracalendar//EN
VERSION:2.0
METHOD:PUBLISH
BEGIN:VEVENT
DTSTAMP:20260419T233431
CREATED:20250619T023721
UID:1776641671.0.49186000-119955@statistik.d-u-v.org
SUMMARY:Ultra-Trail Malopolska - UTM45
DESCRIPTION: Ultra-Trail Malopolska - UTM45\n
  Pawel Derlatka\n
  fundacja[at]ultratrailmalopolska.pl; fundacja4alternatywy[at]gmail.com; fundacja[at]utm.run
DTSTART:20250524T080000
DTEND:00000000T235900
LOCATION:Mszana Dolna\, POL
URL:https://ultratrailmalopolska.pl/pl/utm/
CATEGORIES:Ultramarathon
CONTACT:Pawel Derlatka
CLASS:PUBLIC
PRIORITY:5
TRANSP:OPAQUE
END:VEVENT
END:VCALENDAR
