BEGIN:VCALENDAR
PRODID:-//http://statistik.d-u-v.org//PHP ultracalendar//EN
VERSION:2.0
METHOD:PUBLISH
BEGIN:VEVENT
DTSTAMP:20260419T161742
CREATED:20250616T155927
UID:1776615462.0.65302800-119942@statistik.d-u-v.org
SUMMARY:Liberation Trail
DESCRIPTION: Liberation Trail\n
  Mark van Hoorn\n
  info[at]liberationtrail.org
DTSTART:20260614T000000
DTEND:20260620T235900
LOCATION:Omaha Beach\, FRA
URL:https://liberationtrail.org/
CATEGORIES:Ultramarathon
CONTACT:Mark van Hoorn
CLASS:PUBLIC
PRIORITY:5
TRANSP:OPAQUE
END:VEVENT
END:VCALENDAR
