BEGIN:VCALENDAR
PRODID:-//http://statistik.d-u-v.org//PHP ultracalendar//EN
VERSION:2.0
METHOD:PUBLISH
BEGIN:VEVENT
DTSTAMP:20260420T053133
CREATED:20250611T213633
UID:1776663093.0.76475800-119881@statistik.d-u-v.org
SUMMARY:Uetliberg Everesting
DESCRIPTION: Uetliberg Everesting\n
  Christian Marti\n
  christianmarti[at]sunrise.ch
DTSTART:20250920T080000
DTEND:20250921T200000
LOCATION:Zürich\, SUI
URL:https://www.100marathonclub.ch/termine/100mcs_marathons
CATEGORIES:Ultramarathon
CONTACT:Christian Marti
CLASS:PUBLIC
PRIORITY:5
TRANSP:OPAQUE
END:VEVENT
END:VCALENDAR
