BEGIN:VCALENDAR
PRODID:-//http://statistik.d-u-v.org//PHP ultracalendar//EN
VERSION:2.0
METHOD:PUBLISH
BEGIN:VEVENT
DTSTAMP:20260424T161716
CREATED:20250614T035213
UID:1777047436.0.18946300-119854@statistik.d-u-v.org
SUMMARY:Zhuzihu Ultra Run
DESCRIPTION: Zhuzihu Ultra Run\n
  \n
  
DTSTART:20250608T050000
DTEND:00000000T235900
LOCATION:Beitou District\, TPE
URL:https://www.facebook.com/events/1811159646306935/?acontext=%7B%22event_action_history%22%3A[%7B%22surface%22%3A%22group%22%7D]%7D
CATEGORIES:Ultramarathon
CONTACT:
CLASS:PUBLIC
PRIORITY:5
TRANSP:OPAQUE
END:VEVENT
END:VCALENDAR
