BEGIN:VCALENDAR
PRODID:-//http://statistik.d-u-v.org//PHP ultracalendar//EN
VERSION:2.0
METHOD:PUBLISH
BEGIN:VEVENT
DTSTAMP:20260419T195316
CREATED:20250613T142828
UID:1776628396.0.10894600-119843@statistik.d-u-v.org
SUMMARY:Bong Backyards
DESCRIPTION: Bong Backyards\n
  Matt De Witt\n
  dewittathletics@gmail.com
DTSTART:20250606T080000
DTEND:20250607T235900
LOCATION:Brighton, WI\, USA
URL:https://ultrasignup.com/register.aspx?did=122443
CATEGORIES:Ultramarathon
CONTACT:Matt De Witt
CLASS:PUBLIC
PRIORITY:5
TRANSP:OPAQUE
END:VEVENT
END:VCALENDAR
