BEGIN:VCALENDAR
PRODID:-//http://statistik.d-u-v.org//PHP ultracalendar//EN
VERSION:2.0
METHOD:PUBLISH
BEGIN:VEVENT
DTSTAMP:20260419T192231
CREATED:20250610T220236
UID:1776626551.0.03597200-119802@statistik.d-u-v.org
SUMMARY:Yellowbrick Backyard Ultra
DESCRIPTION: Yellowbrick Backyard Ultra\n
  \n
  
DTSTART:20250607T080000
DTEND:20250608T235900
LOCATION:Peoria, IL\, USA
URL:https://ultrasignup.com/register.aspx?did=122220
CATEGORIES:Ultramarathon
CONTACT:
CLASS:PUBLIC
PRIORITY:5
TRANSP:OPAQUE
END:VEVENT
END:VCALENDAR
