BEGIN:VCALENDAR
PRODID:-//http://statistik.d-u-v.org//PHP ultracalendar//EN
VERSION:2.0
METHOD:PUBLISH
BEGIN:VEVENT
DTSTAMP:20260419T171458
CREATED:20250610T113105
UID:1776618898.0.07450100-119774@statistik.d-u-v.org
SUMMARY:Khadakwasala Ultra 53km
DESCRIPTION: Khadakwasala Ultra 53km\n
  \n
  
DTSTART:20241117T000000
DTEND:00000000T235900
LOCATION:Pune\, IND
URL:https://www.facebook.com/events/508646295003330
CATEGORIES:Ultramarathon
CONTACT:
CLASS:PUBLIC
PRIORITY:5
TRANSP:OPAQUE
END:VEVENT
END:VCALENDAR
