BEGIN:VCALENDAR
PRODID:-//http://statistik.d-u-v.org//PHP ultracalendar//EN
VERSION:2.0
METHOD:PUBLISH
BEGIN:VEVENT
DTSTAMP:20260419T164547
CREATED:20250609T094910
UID:1776617147.0.51377200-119705@statistik.d-u-v.org
SUMMARY:Fault Line Ultra 100mi
DESCRIPTION: Fault Line Ultra 100mi\n
  \n
  faultline[at]barefootsport.co.nz
DTSTART:20250426T043000
DTEND:20250427T180000
LOCATION:Wellington\, NZL
URL:https://faultline.co.nz/
CATEGORIES:Ultramarathon
CONTACT:
CLASS:PUBLIC
PRIORITY:5
TRANSP:OPAQUE
END:VEVENT
END:VCALENDAR
