BEGIN:VCALENDAR
PRODID:-//http://statistik.d-u-v.org//PHP ultracalendar//EN
VERSION:2.0
METHOD:PUBLISH
BEGIN:VEVENT
DTSTAMP:20260419T233304
CREATED:20250609T021206
UID:1776641584.0.11791600-119695@statistik.d-u-v.org
SUMMARY:Lofty's Revenge
DESCRIPTION: Lofty's Revenge\n
  \n
  info[at]adelaidetrailrunners.com.au
DTSTART:20250628T000000
DTEND:00000000T235900
LOCATION:Adelaide, SA\, AUS
URL:https://www.adelaidetrailrunners.com.au
CATEGORIES:Ultramarathon
CONTACT:
CLASS:PUBLIC
PRIORITY:5
TRANSP:OPAQUE
END:VEVENT
END:VCALENDAR
