BEGIN:VCALENDAR
PRODID:-//http://statistik.d-u-v.org//PHP ultracalendar//EN
VERSION:2.0
METHOD:PUBLISH
BEGIN:VEVENT
DTSTAMP:20260419T185809
CREATED:20250602T141542
UID:1776625089.0.73523800-119560@statistik.d-u-v.org
SUMMARY:Kettlefoot
DESCRIPTION: Kettlefoot\n
  \n
  
DTSTART:20250531T080000
DTEND:00000000T235900
LOCATION:Mountain City, TN\, USA
URL:https://sites.google.com/view/runkettlefoot
CATEGORIES:Ultramarathon
CONTACT:
CLASS:PUBLIC
PRIORITY:5
TRANSP:OPAQUE
END:VEVENT
END:VCALENDAR
