BEGIN:VCALENDAR
PRODID:-//http://statistik.d-u-v.org//PHP ultracalendar//EN
VERSION:2.0
METHOD:PUBLISH
BEGIN:VEVENT
DTSTAMP:20260423T020036
CREATED:20250530T071222
UID:1776909636.0.74246500-119447@statistik.d-u-v.org
SUMMARY:Backyard Ultra World Team Championships - Estonia
DESCRIPTION: Backyard Ultra World Team Championships - Estonia\n
  \n
  info[at]heavymetalultra.com
DTSTART:20241019T000000
DTEND:20241021T235900
LOCATION:Keila City\, EST
URL:https://www.heavymetalultra.com/en/eesti-backyard-ultra-resultaadid
CATEGORIES:Ultramarathon
CONTACT:
CLASS:PUBLIC
PRIORITY:5
TRANSP:OPAQUE
END:VEVENT
END:VCALENDAR
