BEGIN:VCALENDAR
PRODID:-//http://statistik.d-u-v.org//PHP ultracalendar//EN
VERSION:2.0
METHOD:PUBLISH
BEGIN:VEVENT
DTSTAMP:20260419T220804
CREATED:20250529T193313
UID:1776636484.0.59496700-119430@statistik.d-u-v.org
SUMMARY:Backyard Ultra World Team Championships - Algeria
DESCRIPTION: Backyard Ultra World Team Championships - Algeria\n
  \n
  
DTSTART:20241019T130000
DTEND:20241020T140000
LOCATION:Alger\, ALG
URL:https://www.facebook.com/profile.php?id=100095017489578#
CATEGORIES:Ultramarathon
CONTACT:
CLASS:PUBLIC
PRIORITY:5
TRANSP:OPAQUE
END:VEVENT
END:VCALENDAR
