BEGIN:VCALENDAR
PRODID:-//http://statistik.d-u-v.org//PHP ultracalendar//EN
VERSION:2.0
METHOD:PUBLISH
BEGIN:VEVENT
DTSTAMP:20260419T121554
CREATED:20250529T025630
UID:1776600954.0.36478700-119405@statistik.d-u-v.org
SUMMARY:INFINITUS 2025 - 100 Mile Ultramarathon
DESCRIPTION: INFINITUS 2025 - 100 Mile Ultramarathon\n
  \n
  ​andy[at]endurancesociety.org
DTSTART:20260522T080000
DTEND:20260524T235900
LOCATION:Goshen, VT\, USA
URL:https://ultrasignup.com/register.aspx?did=127104
CATEGORIES:Ultramarathon
CONTACT:
CLASS:PUBLIC
PRIORITY:5
TRANSP:OPAQUE
END:VEVENT
END:VCALENDAR
