BEGIN:VCALENDAR
PRODID:-//http://statistik.d-u-v.org//PHP ultracalendar//EN
VERSION:2.0
METHOD:PUBLISH
BEGIN:VEVENT
DTSTAMP:20260423T131515
CREATED:20250528T124142
UID:1776950115.0.24776000-119391@statistik.d-u-v.org
SUMMARY:Pordarom Backyard
DESCRIPTION: Pordarom Backyard\n
  \n
  
DTSTART:20240523T000000
DTEND:20240524T235900
LOCATION:Shahsavar\, IRI
URL:https://backyardultra.com/races?s=&post_type=race&month=&country=Iran&orderby=&order=ASC&post_type=race
CATEGORIES:Ultramarathon
CONTACT:
CLASS:PUBLIC
PRIORITY:5
TRANSP:OPAQUE
END:VEVENT
END:VCALENDAR
