BEGIN:VCALENDAR
PRODID:-//http://statistik.d-u-v.org//PHP ultracalendar//EN
VERSION:2.0
METHOD:PUBLISH
BEGIN:VEVENT
DTSTAMP:20260423T033708
CREATED:20250527T155247
UID:1776915428.0.40554700-119379@statistik.d-u-v.org
SUMMARY:Backyard Ultra World Team Championships - Bolivia
DESCRIPTION: Backyard Ultra World Team Championships - Bolivia\n
  \n
  
DTSTART:20241019T000000
DTEND:20241020T235900
LOCATION:Santa Cruz de la Sierra\, BOL
URL:https://www.facebook.com/events/1258163685636419/?active_tab=discussion
CATEGORIES:Ultramarathon
CONTACT:
CLASS:PUBLIC
PRIORITY:5
TRANSP:OPAQUE
END:VEVENT
END:VCALENDAR
