BEGIN:VCALENDAR
PRODID:-//http://statistik.d-u-v.org//PHP ultracalendar//EN
VERSION:2.0
METHOD:PUBLISH
BEGIN:VEVENT
DTSTAMP:20260419T171501
CREATED:20250511T202235
UID:1776618901.0.99019700-119332@statistik.d-u-v.org
SUMMARY:Bremer Bergmarathon mit Höhenmetersammlung (60 Jahre SG Marßel Bremen Edition)
DESCRIPTION: Bremer Bergmarathon mit Höhenmetersammlung (60 Jahre SG Marßel Bremen Edition)\n
  Olaf Häsler\n
  olaf.haesler[at]nord-com.net
DTSTART:20250615T080000
DTEND:00000000T235900
LOCATION:Bremen\, GER
URL:https://my.raceresult.com/338264/
CATEGORIES:Ultramarathon
CONTACT:Olaf Häsler
CLASS:PUBLIC
PRIORITY:5
TRANSP:OPAQUE
END:VEVENT
END:VCALENDAR
