BEGIN:VCALENDAR
PRODID:-//http://statistik.d-u-v.org//PHP ultracalendar//EN
VERSION:2.0
METHOD:PUBLISH
BEGIN:VEVENT
DTSTAMP:20260422T234937
CREATED:20250512T204652
UID:1776901777.0.65680700-119328@statistik.d-u-v.org
SUMMARY:Munich Backyard
DESCRIPTION: Munich Backyard\n
  Johannes Reindl\n
  office[at]munichbackyard.de
DTSTART:20250913T080000
DTEND:00000000T235900
LOCATION:München\, GER
URL:https://www.munichbackyard.de/
CATEGORIES:Ultramarathon
CONTACT:Johannes Reindl
CLASS:PUBLIC
PRIORITY:5
TRANSP:OPAQUE
END:VEVENT
END:VCALENDAR
