BEGIN:VCALENDAR
PRODID:-//http://statistik.d-u-v.org//PHP ultracalendar//EN
VERSION:2.0
METHOD:PUBLISH
BEGIN:VEVENT
DTSTAMP:20260419T171446
CREATED:20250522T093926
UID:1776618886.0.86397700-119316@statistik.d-u-v.org
SUMMARY:Sabines Geburtstagsultra
DESCRIPTION: Sabines Geburtstagsultra\n
  Jörg Drechsler\n
  joergdrechsler[at]web.de
DTSTART:20250816T090000
DTEND:00000000T235900
LOCATION:Otzberg\, GER
URL:https://www.facebook.com/events/1268398717978947
CATEGORIES:Ultramarathon
CONTACT:Jörg Drechsler
CLASS:PUBLIC
PRIORITY:5
TRANSP:OPAQUE
END:VEVENT
END:VCALENDAR
