BEGIN:VCALENDAR
PRODID:-//http://statistik.d-u-v.org//PHP ultracalendar//EN
VERSION:2.0
METHOD:PUBLISH
BEGIN:VEVENT
DTSTAMP:20260419T211250
CREATED:20250520T154701
UID:1776633170.0.84536300-119128@statistik.d-u-v.org
SUMMARY:50km de Saint Loup des Vignes
DESCRIPTION: 50km de Saint Loup des Vignes\n
  Alexandre Forestieri\n
  forestierialex[at]yahoo.com
DTSTART:20250517T080000
DTEND:00000000T235900
LOCATION:Saint Loup des Vignes\, FRA
URL:https://www.facebook.com/alexandre.forestieri/posts/pfbid0Sm6DofWEyY7F7eHXbwwRjwozMmVAmrRNUnSkb1t3wGcQKou5dsBLi2LXbyzA134Hl
CATEGORIES:Ultramarathon
CONTACT:Alexandre Forestieri
CLASS:PUBLIC
PRIORITY:5
TRANSP:OPAQUE
END:VEVENT
END:VCALENDAR
