BEGIN:VCALENDAR
PRODID:-//http://statistik.d-u-v.org//PHP ultracalendar//EN
VERSION:2.0
METHOD:PUBLISH
BEGIN:VEVENT
DTSTAMP:20260419T170255
CREATED:20111001T204855
UID:1776618175.0.97268400-11909@statistik.d-u-v.org
SUMMARY:100 km du Périgord Noir, Belves
DESCRIPTION: 100 km du Périgord Noir, Belves\n
  \n
  
DTSTART:20020427T000000
DTEND:20020428T235900
LOCATION:Belves\, FRA
URL:
CATEGORIES:Ultramarathon
CONTACT:
CLASS:PUBLIC
PRIORITY:5
TRANSP:OPAQUE
END:VEVENT
END:VCALENDAR
