BEGIN:VCALENDAR
PRODID:-//http://statistik.d-u-v.org//PHP ultracalendar//EN
VERSION:2.0
METHOD:PUBLISH
BEGIN:VEVENT
DTSTAMP:20260423T052749
CREATED:20250508T042326
UID:1776922069.0.28986600-118866@statistik.d-u-v.org
SUMMARY:Ultra Salinas 12 horas
DESCRIPTION: Ultra Salinas 12 horas\n
  Tysson Piñeiro \n
  
DTSTART:20250308T070000
DTEND:00000000T235900
LOCATION:Salinas\, URU
URL:https://encarrera.uy/ultra-salinas/
CATEGORIES:Ultramarathon
CONTACT:Tysson Piñeiro 
CLASS:PUBLIC
PRIORITY:5
TRANSP:OPAQUE
END:VEVENT
END:VCALENDAR
