BEGIN:VCALENDAR
PRODID:-//http://statistik.d-u-v.org//PHP ultracalendar//EN
VERSION:2.0
METHOD:PUBLISH
BEGIN:VEVENT
DTSTAMP:20260423T044337
CREATED:20250502T185056
UID:1776919417.0.68746000-118750@statistik.d-u-v.org
SUMMARY:Les 24 heures de Roche-la-Molière
DESCRIPTION: Les 24 heures de Roche-la-Molière\n
  \n
  clips.org[at]free.fr
DTSTART:20250607T100000
DTEND:20250608T100000
LOCATION:Roche-la-Moliere\, FRA
URL:http://www.24heuresderochelamoliere.com/
CATEGORIES:Ultramarathon
CONTACT:
CLASS:PUBLIC
PRIORITY:5
TRANSP:OPAQUE
END:VEVENT
END:VCALENDAR
