BEGIN:VCALENDAR
PRODID:-//http://statistik.d-u-v.org//PHP ultracalendar//EN
VERSION:2.0
METHOD:PUBLISH
BEGIN:VEVENT
DTSTAMP:20260423T044344
CREATED:20250502T184913
UID:1776919424.0.55389900-118749@statistik.d-u-v.org
SUMMARY:Les 12 heures de Roche-la-Molière
DESCRIPTION: Les 12 heures de Roche-la-Molière\n
  \n
  clips.org[at]free.fr
DTSTART:20250607T220000
DTEND:20250608T100000
LOCATION:Roche-la-Moliere\, FRA
URL:http://www.24heuresderochelamoliere.com/
CATEGORIES:Ultramarathon
CONTACT:
CLASS:PUBLIC
PRIORITY:5
TRANSP:OPAQUE
END:VEVENT
END:VCALENDAR
