BEGIN:VCALENDAR
PRODID:-//http://statistik.d-u-v.org//PHP ultracalendar//EN
VERSION:2.0
METHOD:PUBLISH
BEGIN:VEVENT
DTSTAMP:20260423T044343
CREATED:20250502T184814
UID:1776919423.0.64396800-118748@statistik.d-u-v.org
SUMMARY:Les 6 heures de Roche-la-Molière - dimanche
DESCRIPTION: Les 6 heures de Roche-la-Molière - dimanche\n
  \n
  clips.org[at]free.fr
DTSTART:20250608T040000
DTEND:00000000T235900
LOCATION:Roche-la-Moliere\, FRA
URL:http://www.24heuresderochelamoliere.com/
CATEGORIES:Ultramarathon
CONTACT:
CLASS:PUBLIC
PRIORITY:5
TRANSP:OPAQUE
END:VEVENT
END:VCALENDAR
