BEGIN:VCALENDAR
PRODID:-//http://statistik.d-u-v.org//PHP ultracalendar//EN
VERSION:2.0
METHOD:PUBLISH
BEGIN:VEVENT
DTSTAMP:20260420T044119
CREATED:20250430T054721
UID:1776660079.0.56389200-118721@statistik.d-u-v.org
SUMMARY:5D Ultramarathon - 80km
DESCRIPTION: 5D Ultramarathon - 80km\n
  Carlos Zuma\n
  contato[at]5dultramarathon.com
DTSTART:20250420T080000
DTEND:20250421T235900
LOCATION:Valenca, RJ\, BRA
URL:https://5dultramarathon.com
CATEGORIES:Ultramarathon
CONTACT:Carlos Zuma
CLASS:PUBLIC
PRIORITY:5
TRANSP:OPAQUE
END:VEVENT
END:VCALENDAR
