BEGIN:VCALENDAR
PRODID:-//http://statistik.d-u-v.org//PHP ultracalendar//EN
VERSION:2.0
METHOD:PUBLISH
BEGIN:VEVENT
DTSTAMP:20260419T195345
CREATED:20110926T192711
UID:1776628425.0.61680000-11868@statistik.d-u-v.org
SUMMARY:Balaton Szupermaraton Etappe 4 Balatonfüred - Siófok
DESCRIPTION: Balaton Szupermaraton Etappe 4 Balatonfüred - Siófok\n
  Kocsis Árpád\n
  info[at]futanet.hu
DTSTART:20080330T000000
DTEND:00000000T235900
LOCATION:Balatonfüred\, HUN
URL:http://www.budapestmarathon.com/ger/balaton.html
CATEGORIES:Ultramarathon
CONTACT:Kocsis Árpád
CLASS:PUBLIC
PRIORITY:5
TRANSP:OPAQUE
END:VEVENT
END:VCALENDAR
