BEGIN:VCALENDAR
PRODID:-//http://statistik.d-u-v.org//PHP ultracalendar//EN
VERSION:2.0
METHOD:PUBLISH
BEGIN:VEVENT
DTSTAMP:20260425T184157
CREATED:20250427T103650
UID:1777142517.0.93446400-118639@statistik.d-u-v.org
SUMMARY:Las Virgenes Canyon Ultra Trail Races
DESCRIPTION: Las Virgenes Canyon Ultra Trail Races\n
  \n
  
DTSTART:20250426T060000
DTEND:00000000T235900
LOCATION:Los Angeles (West Hills), CA\, USA
URL:https://ultrasignup.com/register.aspx?did=121839
CATEGORIES:Ultramarathon
CONTACT:
CLASS:PUBLIC
PRIORITY:5
TRANSP:OPAQUE
END:VEVENT
END:VCALENDAR
