BEGIN:VCALENDAR
PRODID:-//http://statistik.d-u-v.org//PHP ultracalendar//EN
VERSION:2.0
METHOD:PUBLISH
BEGIN:VEVENT
DTSTAMP:20260419T233307
CREATED:20250422T194800
UID:1776641587.0.12146600-118559@statistik.d-u-v.org
SUMMARY:Farmmageddon 100mi
DESCRIPTION: Farmmageddon 100mi\n
  \n
  
DTSTART:20250524T080000
DTEND:20250525T235900
LOCATION:Buntingford\, GBR
URL:https://zigzagrunning.eventrac.co.uk
CATEGORIES:Ultramarathon
CONTACT:
CLASS:PUBLIC
PRIORITY:5
TRANSP:OPAQUE
END:VEVENT
END:VCALENDAR
