BEGIN:VCALENDAR
PRODID:-//http://statistik.d-u-v.org//PHP ultracalendar//EN
VERSION:2.0
METHOD:PUBLISH
BEGIN:VEVENT
DTSTAMP:20260419T140017
CREATED:20250422T104653
UID:1776607217.0.88377700-118532@statistik.d-u-v.org
SUMMARY:The Bridge 40
DESCRIPTION: The Bridge 40\n
  Mark Cockbain\n
  
DTSTART:20260509T100000
DTEND:00000000T235900
LOCATION:Chepstow\, GBR
URL:https://www.cockbainevents.com/the-bridge-200
CATEGORIES:Ultramarathon
CONTACT:Mark Cockbain
CLASS:PUBLIC
PRIORITY:5
TRANSP:OPAQUE
END:VEVENT
END:VCALENDAR
