BEGIN:VCALENDAR
PRODID:-//http://statistik.d-u-v.org//PHP ultracalendar//EN
VERSION:2.0
METHOD:PUBLISH
BEGIN:VEVENT
DTSTAMP:20260423T104249
CREATED:20110924T021003
UID:1776940969.0.74650300-11831@statistik.d-u-v.org
SUMMARY:Marktlauf in Gnas
DESCRIPTION: Marktlauf in Gnas\n
  \n
  
DTSTART:20050625T000000
DTEND:00000000T235900
LOCATION:Gnas\, AUT
URL:
CATEGORIES:Ultramarathon
CONTACT:
CLASS:PUBLIC
PRIORITY:5
TRANSP:OPAQUE
END:VEVENT
END:VCALENDAR
