BEGIN:VCALENDAR
PRODID:-//http://statistik.d-u-v.org//PHP ultracalendar//EN
VERSION:2.0
METHOD:PUBLISH
BEGIN:VEVENT
DTSTAMP:20260424T121821
CREATED:20250408T133142
UID:1777033101.0.02223600-118220@statistik.d-u-v.org
SUMMARY:The Tyne Bridges To Boundaries 32 Mile Ultra
DESCRIPTION: The Tyne Bridges To Boundaries 32 Mile Ultra\n
  Mark Marchant\n
  markmarchant1303[at]yahoo.co.uk
DTSTART:20260314T081500
DTEND:00000000T235900
LOCATION:Newcastle Upon Tyne\, GBR
URL:https://greenermilesrunning.co.uk
CATEGORIES:Ultramarathon
CONTACT:Mark Marchant
CLASS:PUBLIC
PRIORITY:5
TRANSP:OPAQUE
END:VEVENT
END:VCALENDAR
