BEGIN:VCALENDAR
PRODID:-//http://statistik.d-u-v.org//PHP ultracalendar//EN
VERSION:2.0
METHOD:PUBLISH
BEGIN:VEVENT
DTSTAMP:20260425T195343
CREATED:20250405T103111
UID:1777146823.0.10442600-118189@statistik.d-u-v.org
SUMMARY:Taipei 100km Ultra Marathon
DESCRIPTION: Taipei 100km Ultra Marathon\n
  Frank Kuo, Race director\n
  yhwang.ctau[at]gmail.com
DTSTART:20250222T070000
DTEND:00000000T235900
LOCATION:Taipei City\, TPE
URL:https://docs.google.com/document/d/1oXpc7FIknDPu_SEq3i11axJgigdcqsl3y1UuuZQLtWI/edit
CATEGORIES:Ultramarathon
CONTACT:Frank Kuo, Race director
CLASS:PUBLIC
PRIORITY:5
TRANSP:OPAQUE
END:VEVENT
END:VCALENDAR
