BEGIN:VCALENDAR
PRODID:-//http://statistik.d-u-v.org//PHP ultracalendar//EN
VERSION:2.0
METHOD:PUBLISH
BEGIN:VEVENT
DTSTAMP:20260422T194009
CREATED:20250403T080340
UID:1776886809.0.24204800-118132@statistik.d-u-v.org
SUMMARY:Ultra Trail Jervis Bay - 53km
DESCRIPTION: Ultra Trail Jervis Bay - 53km\n
  Bart Malecki\n
  run[at]ultratrailjervisbay.com.au
DTSTART:20250628T063000
DTEND:00000000T235900
LOCATION:Murrays Beach, NSW\, AUS
URL:https://ultratrailjervisbay.com.au/
CATEGORIES:Ultramarathon
CONTACT:Bart Malecki
CLASS:PUBLIC
PRIORITY:5
TRANSP:OPAQUE
END:VEVENT
END:VCALENDAR
